BEGIN:VCALENDAR
VERSION:2.0
PRODID:-//The Oval Bandstand &amp; Lawns - ECPv6.15.20//NONSGML v1.0//EN
CALSCALE:GREGORIAN
METHOD:PUBLISH
X-ORIGINAL-URL:https://www.theovalbandstand.co.uk
X-WR-CALDESC:Events for The Oval Bandstand &amp; Lawns
REFRESH-INTERVAL;VALUE=DURATION:PT1H
X-Robots-Tag:noindex
X-PUBLISHED-TTL:PT1H
BEGIN:VTIMEZONE
TZID:Europe/London
BEGIN:DAYLIGHT
TZOFFSETFROM:+0000
TZOFFSETTO:+0100
TZNAME:BST
DTSTART:20250330T010000
END:DAYLIGHT
BEGIN:STANDARD
TZOFFSETFROM:+0100
TZOFFSETTO:+0000
TZNAME:GMT
DTSTART:20251026T010000
END:STANDARD
BEGIN:DAYLIGHT
TZOFFSETFROM:+0000
TZOFFSETTO:+0100
TZNAME:BST
DTSTART:20260329T010000
END:DAYLIGHT
BEGIN:STANDARD
TZOFFSETFROM:+0100
TZOFFSETTO:+0000
TZNAME:GMT
DTSTART:20261025T010000
END:STANDARD
BEGIN:DAYLIGHT
TZOFFSETFROM:+0000
TZOFFSETTO:+0100
TZNAME:BST
DTSTART:20270328T010000
END:DAYLIGHT
BEGIN:STANDARD
TZOFFSETFROM:+0100
TZOFFSETTO:+0000
TZNAME:GMT
DTSTART:20271031T010000
END:STANDARD
END:VTIMEZONE
BEGIN:VEVENT
DTSTART;TZID=Europe/London:20260828T190000
DTEND;TZID=Europe/London:20260828T203000
DTSTAMP:20260423T192437
CREATED:20260113T190621Z
LAST-MODIFIED:20260209T180054Z
UID:7083-1787943600-1787949000@www.theovalbandstand.co.uk
SUMMARY:The Great Gatsby by This is my Theatre
DESCRIPTION:A roaring\, high-energy theatrical journey into the heart of the American Dream.\n\n\nThe Great Gatsby\n  \nPresented by This Is My Theatre \nThis summer\, one of the greatest stories ever written is staged in one of Margate’s most striking settings. \nSet beneath open skies at The Oval Bandstand & Lawns\, this electrifying adaptation of The Great Gatsby transforms the amphitheatre into a world of jazz-age glamour\, ambition\, and beautifully broken dreams. As the light fades and live music fills the air\, audiences are drawn into Jay Gatsby’s dazzling orbit\, a place where desire burns bright and illusion shimmers just out of reach. \nThrough the eyes of Nick Carraway\, Fitzgerald’s timeless tale unfolds with pace\, energy\, and emotional depth. Lavish parties give way to quiet longing\, secrets surface\, and the promise of the American Dream begins to fracture. This is Gatsby as it was meant to be experienced: vivid\, theatrical\, and alive. \nThis Is My Theatre is celebrated for creating vibrant\, accessible productions in historic and open-air venues\, and this adaptation is no exception. Featuring live music arranged by Resident Composer Simon Stallard and performed throughout\, the production is rich in atmosphere and designed to captivate audiences of all ages. \nCritics have described the company’s work as “warm and welcoming\, clever and creative” and “rich in detail and a joy to experience” praise that speaks to both theatrical quality and pure enjoyment. \nPerformed for only one show in this unique amphitheatre setting\, The Great Gatsby at The Oval Bandstand is more than a night at the theatre\, it is a shared summer experience\, elegant\, immersive\, and unforgettable. \n  \n\nDoors\, toilets and concessions open: 6:30pm – 8:30pm .\nTickets are non-refundable\nAll persons under 18 years of age must be accompanied by an adult.\nA fully licensed bar and food is available (alcohol and food is not to be brought into venue\, bag searches are in operation).\nFully accessible toilet facilities are available.\nAll seating areas have step-free access.\nThere is no car parking at the venue\, please use public transport\, bicycles\, or arrive on foot. There is very limited local car parking and charges may apply.\nPlease refer to venue Terms & Conditions at www.theovalbandstand.co.uk and full terms and condtions can be found here https://theovalbandstand.co.uk/ticket-ts-cs
URL:https://www.theovalbandstand.co.uk/oval-whats-on/the-great-gatsby-by-this-is-my-theatre
LOCATION:Kent
ATTACH;FMTTYPE=image/jpeg:https://www.theovalbandstand.co.uk/wp-content/uploads/2026/01/0af5bf10ce6a7962b7fa1cc22e07876e.jpg
END:VEVENT
END:VCALENDAR