BEGIN:VCALENDAR
VERSION:2.0
PRODID:-//The Oval Bandstand &amp; Lawns - ECPv6.15.20//NONSGML v1.0//EN
CALSCALE:GREGORIAN
METHOD:PUBLISH
X-ORIGINAL-URL:https://www.theovalbandstand.co.uk
X-WR-CALDESC:Events for The Oval Bandstand &amp; Lawns
REFRESH-INTERVAL;VALUE=DURATION:PT1H
X-Robots-Tag:noindex
X-PUBLISHED-TTL:PT1H
BEGIN:VTIMEZONE
TZID:Europe/London
BEGIN:DAYLIGHT
TZOFFSETFROM:+0000
TZOFFSETTO:+0100
TZNAME:BST
DTSTART:20250330T010000
END:DAYLIGHT
BEGIN:STANDARD
TZOFFSETFROM:+0100
TZOFFSETTO:+0000
TZNAME:GMT
DTSTART:20251026T010000
END:STANDARD
BEGIN:DAYLIGHT
TZOFFSETFROM:+0000
TZOFFSETTO:+0100
TZNAME:BST
DTSTART:20260329T010000
END:DAYLIGHT
BEGIN:STANDARD
TZOFFSETFROM:+0100
TZOFFSETTO:+0000
TZNAME:GMT
DTSTART:20261025T010000
END:STANDARD
BEGIN:DAYLIGHT
TZOFFSETFROM:+0000
TZOFFSETTO:+0100
TZNAME:BST
DTSTART:20270328T010000
END:DAYLIGHT
BEGIN:STANDARD
TZOFFSETFROM:+0100
TZOFFSETTO:+0000
TZNAME:GMT
DTSTART:20271031T010000
END:STANDARD
END:VTIMEZONE
BEGIN:VEVENT
DTSTART;TZID=Europe/London:20260809T100000
DTEND;TZID=Europe/London:20260809T150000
DTSTAMP:20260423T192537
CREATED:20260125T101439Z
LAST-MODIFIED:20260205T115121Z
UID:7122-1786269600-1786287600@www.theovalbandstand.co.uk
SUMMARY:Cliftonville Classic Car Show - August 2026
DESCRIPTION:Classic cars\, vintage motorcycles and motoring heritage\, set across the lawns of The Oval Bandstand and Lawns\n\n\nRamsgate Old Motor and Motorcycle Club\, in partnership with The Oval Bandstand & Lawns\, are delighted to be bringing the much-loved Cliftonville Classic Car Show back to Margate. \nThis popular community event celebrates classic cars\, vintage motorcycles and motoring heritage\, set across the lawns of The Oval in a stunning seafront location. With a strong history and a loyal following\, the show has long attracted enthusiasts\, families and visitors alike\, and we’re excited to see it return for two special dates in summer 2026. \n  \nEvent dates:\nSunday 14 June 2026\nSunday 9 August 2026 \n  \nIf you’re interested in exhibiting a vehicle\, please download an entry form from rommcc.org or contact the club directly at rommcc81@gmail.com \n  \nThis has been a hugely popular event in the past\, so let’s bring it back to the lawns in style and make it one to remember. \n  \nTickets are NOT required for the car show on the lawns.
URL:https://www.theovalbandstand.co.uk/oval-whats-on/cliftonville-classic-car-show-august-2026
LOCATION:The Oval Bandstand & Lawns\, The Oval Bandstand and Lawns\, Eastern Esplanade\, Cliftonville\, Margate\, Kent\, CT9 2HL\, United Kingdom
ATTACH;FMTTYPE=image/jpeg:https://www.theovalbandstand.co.uk/wp-content/uploads/2026/01/dd5ddcb03c188240cf8b1f18c2e5da65.jpg
ORGANIZER;CN="GRASS Cliftonville CIC":MAILTO:events@theovalbandstand.co.uk
END:VEVENT
END:VCALENDAR